BEGIN:VCALENDAR
VERSION:2.0
PRODID:-//Carolina Museum of the Marine - ECPv6.15.17.1//NONSGML v1.0//EN
CALSCALE:GREGORIAN
METHOD:PUBLISH
X-WR-CALNAME:Carolina Museum of the Marine
X-ORIGINAL-URL:https://www.museumofthemarine.org
X-WR-CALDESC:Events for Carolina Museum of the Marine
REFRESH-INTERVAL;VALUE=DURATION:PT1H
X-Robots-Tag:noindex
X-PUBLISHED-TTL:PT1H
BEGIN:VTIMEZONE
TZID:America/New_York
BEGIN:DAYLIGHT
TZOFFSETFROM:-0500
TZOFFSETTO:-0400
TZNAME:EDT
DTSTART:20240310T070000
END:DAYLIGHT
BEGIN:STANDARD
TZOFFSETFROM:-0400
TZOFFSETTO:-0500
TZNAME:EST
DTSTART:20241103T060000
END:STANDARD
BEGIN:DAYLIGHT
TZOFFSETFROM:-0500
TZOFFSETTO:-0400
TZNAME:EDT
DTSTART:20250309T070000
END:DAYLIGHT
BEGIN:STANDARD
TZOFFSETFROM:-0400
TZOFFSETTO:-0500
TZNAME:EST
DTSTART:20251102T060000
END:STANDARD
BEGIN:DAYLIGHT
TZOFFSETFROM:-0500
TZOFFSETTO:-0400
TZNAME:EDT
DTSTART:20260308T070000
END:DAYLIGHT
BEGIN:STANDARD
TZOFFSETFROM:-0400
TZOFFSETTO:-0500
TZNAME:EST
DTSTART:20261101T060000
END:STANDARD
END:VTIMEZONE
BEGIN:VEVENT
DTSTART;TZID=America/New_York:20250501T000000
DTEND;TZID=America/New_York:20250501T235959
DTSTAMP:20260421T130510
CREATED:20250414T203932Z
LAST-MODIFIED:20250414T203936Z
UID:10000013-1746057600-1746143999@www.museumofthemarine.org
SUMMARY:National Day of Prayer 
DESCRIPTION:Join in the National Day of Prayer\, a day for unified prayer and supplication. Visit the website to find gatherings in North Carolina. \n\n\n\nThe National Day of Prayer Task Force encourages volunteers to hold Prayer Gatherings in their local areas. If you haven’t already\, please consider organizing or hosting an event yourself. \n\n\n\nLocations: Visit the National Day of Prayer official website to view the event map and list of locations.
URL:https://www.museumofthemarine.org/event/national-day-of-prayer/
ATTACH;FMTTYPE=image/jpeg:https://www.museumofthemarine.org/wp-content/uploads/national-day-of-prayer-g525472280.jpg
END:VEVENT
END:VCALENDAR