BEGIN:VCALENDAR
VERSION:2.0
PRODID:-//Carolina Museum of the Marine - ECPv6.15.17.1//NONSGML v1.0//EN
CALSCALE:GREGORIAN
METHOD:PUBLISH
X-WR-CALNAME:Carolina Museum of the Marine
X-ORIGINAL-URL:https://www.museumofthemarine.org
X-WR-CALDESC:Events for Carolina Museum of the Marine
REFRESH-INTERVAL;VALUE=DURATION:PT1H
X-Robots-Tag:noindex
X-PUBLISHED-TTL:PT1H
BEGIN:VTIMEZONE
TZID:America/New_York
BEGIN:DAYLIGHT
TZOFFSETFROM:-0500
TZOFFSETTO:-0400
TZNAME:EDT
DTSTART:20230312T070000
END:DAYLIGHT
BEGIN:STANDARD
TZOFFSETFROM:-0400
TZOFFSETTO:-0500
TZNAME:EST
DTSTART:20231105T060000
END:STANDARD
BEGIN:DAYLIGHT
TZOFFSETFROM:-0500
TZOFFSETTO:-0400
TZNAME:EDT
DTSTART:20240310T070000
END:DAYLIGHT
BEGIN:STANDARD
TZOFFSETFROM:-0400
TZOFFSETTO:-0500
TZNAME:EST
DTSTART:20241103T060000
END:STANDARD
BEGIN:DAYLIGHT
TZOFFSETFROM:-0500
TZOFFSETTO:-0400
TZNAME:EDT
DTSTART:20250309T070000
END:DAYLIGHT
BEGIN:STANDARD
TZOFFSETFROM:-0400
TZOFFSETTO:-0500
TZNAME:EST
DTSTART:20251102T060000
END:STANDARD
END:VTIMEZONE
BEGIN:VEVENT
DTSTART;TZID=America/New_York:20240517T000000
DTEND;TZID=America/New_York:20240517T235959
DTSTAMP:20260420T013324
CREATED:20240208T181524Z
LAST-MODIFIED:20240705T145059Z
UID:10000010-1715904000-1715990399@www.museumofthemarine.org
SUMMARY:Groundbreaking Ceremony
DESCRIPTION:Carolina Museum of the Marine cordially invites the public to attend the Museum’s Groundbreaking Ceremony at Lejeune Memorial Gardens\, May 17\, 2024. Time: 8:30 AM
URL:https://www.museumofthemarine.org/event/groundbreaking-ceremony/
ATTACH;FMTTYPE=image/jpeg:https://www.museumofthemarine.org/wp-content/uploads/ground-breaking-event-announcement.jpg
END:VEVENT
END:VCALENDAR